BEGIN:VCALENDAR
VERSION:2.0
CREATED:20260305T121203Z
PRODID:-//Janus International Group/Equisolve Calendar v1.0//EN
METHOD:PUBLISH
BEGIN:VEVENT
UID:0d7bab861c64eae58c6fb1f2c23c49a7
DTSTAMP:20260420T013634Z
DTSTART:20260615T180000Z
DTEND:20260615T190000Z
SUMMARY:2026 Annual Meeting of Stockholders
DESCRIPTION:2026 Annual Meeting of Stockholders\n\nDate: Jun 15\, 2026 2:00 pm EDT
END:VEVENT
END:VCALENDAR
