BEGIN:VCALENDAR
VERSION:2.0
CREATED:20260420T200043Z
PRODID:-//Janus International Group/Equisolve Calendar v1.0//EN
METHOD:PUBLISH
BEGIN:VEVENT
UID:18bdff1b02f5398ade86628127ca1741
DTSTAMP:20260422T132159Z
DTSTART:20260512T140000Z
DTEND:20260512T150000Z
SUMMARY:First Quarter 2026 Earnings Conference Call
DESCRIPTION:First Quarter 2026 Earnings Conference Call\n\nDate: May 12\, 2026 10:00 am EDT\n\nWebcast: https://viavid.webcasts.com/starthere.jsp?ei=1756712&tp_key=d72d5faa1c
END:VEVENT
END:VCALENDAR
